BEGIN:VCALENDAR
VERSION:2.0
PRODID:-//Heartland Reps - ECPv6.15.13//NONSGML v1.0//EN
CALSCALE:GREGORIAN
METHOD:PUBLISH
X-ORIGINAL-URL:https://heartlandreps.com
X-WR-CALDESC:Events for Heartland Reps
REFRESH-INTERVAL;VALUE=DURATION:PT1H
X-Robots-Tag:noindex
X-PUBLISHED-TTL:PT1H
BEGIN:VTIMEZONE
TZID:UTC
BEGIN:STANDARD
TZOFFSETFROM:+0000
TZOFFSETTO:+0000
TZNAME:UTC
DTSTART:20220101T000000
END:STANDARD
END:VTIMEZONE
BEGIN:VEVENT
DTSTART;TZID=UTC:20250226T000000
DTEND;TZID=UTC:20250228T235959
DTSTAMP:20260423T045230
CREATED:20241022T184134Z
LAST-MODIFIED:20241022T184151Z
UID:258596-1740528000-1740787199@heartlandreps.com
SUMMARY:The NAFEM Show 2025
DESCRIPTION:
URL:https://heartlandreps.com/event/the-nafem-show-2025/
END:VEVENT
BEGIN:VEVENT
DTSTART;TZID=UTC:20250218T000000
DTEND;TZID=UTC:20250218T235959
DTSTAMP:20260423T045230
CREATED:20241022T183857Z
LAST-MODIFIED:20241022T183914Z
UID:258592-1739836800-1739923199@heartlandreps.com
SUMMARY:SFNDA Food Show and Commodity Expo
DESCRIPTION:
URL:https://heartlandreps.com/event/sfnda-food-show-and-commodity-expo/
END:VEVENT
BEGIN:VEVENT
DTSTART;TZID=UTC:20250206T000000
DTEND;TZID=UTC:20250207T235959
DTSTAMP:20260423T045230
CREATED:20241022T182958Z
LAST-MODIFIED:20241022T183013Z
UID:258590-1738800000-1738972799@heartlandreps.com
SUMMARY:PACEshow 2025
DESCRIPTION:
URL:https://heartlandreps.com/event/paceshow-2025/
END:VEVENT
BEGIN:VEVENT
DTSTART;TZID=UTC:20250205T000000
DTEND;TZID=UTC:20250205T235959
DTSTAMP:20260423T045230
CREATED:20241022T182753Z
LAST-MODIFIED:20241022T182805Z
UID:258588-1738713600-1738799999@heartlandreps.com
SUMMARY:HOA Food Show and Commodity Expo
DESCRIPTION:
URL:https://heartlandreps.com/event/hoa-food-show-and-commodity-expo/
END:VEVENT
BEGIN:VEVENT
DTSTART;VALUE=DATE:20240518
DTEND;VALUE=DATE:20240522
DTSTAMP:20260423T045230
CREATED:20230811T143042Z
LAST-MODIFIED:20241022T181336Z
UID:258235-1715990400-1716335999@heartlandreps.com
SUMMARY:NRA 2024
DESCRIPTION:
URL:https://heartlandreps.com/event/nra-2024/
END:VEVENT
BEGIN:VEVENT
DTSTART;VALUE=DATE:20231013
DTEND;VALUE=DATE:20231016
DTSTAMP:20260423T045230
CREATED:20230811T142528Z
LAST-MODIFIED:20241022T181529Z
UID:258228-1697155200-1697414399@heartlandreps.com
SUMMARY:SNA State Conference
DESCRIPTION:
URL:https://heartlandreps.com/event/sna-state-conference/
END:VEVENT
BEGIN:VEVENT
DTSTART;VALUE=DATE:20231004
DTEND;VALUE=DATE:20231007
DTSTAMP:20260423T045230
CREATED:20230811T142808Z
LAST-MODIFIED:20230811T142853Z
UID:258231-1696377600-1696636799@heartlandreps.com
SUMMARY:NACS 2023
DESCRIPTION:
URL:https://heartlandreps.com/event/nacs-2023/
LOCATION:Georgia World Congress Center\, 285 Andrew Young International Blvd NW\, Atlanta\, GA\, 30313\, United States
END:VEVENT
END:VCALENDAR